BEGIN:VCALENDAR
VERSION:2.0
PRODID:-//Plone.org//NONSGML plone.app.event//EN
X-WR-TIMEZONE:America/Sao_Paulo
BEGIN:VEVENT
SUMMARY:Seminário Interno do Centro Pedagógico - início do semestre fev
 ereiro 2024 em [ Auditorio A104 do Cad 2]
DTSTART;TZID=America/Sao_Paulo;VALUE=DATE-TIME:20240201T080000
DTEND;TZID=America/Sao_Paulo;VALUE=DATE-TIME:20240202T173000
DTSTAMP;VALUE=DATE-TIME:20260420T063029Z
UID:3db96fb8906644cdb693fcdaedcb26bb@150.164.76.86:8080
CREATED;VALUE=DATE-TIME:20240118T144744Z
DESCRIPTION:<p>O Seminário Interno do Centro Pedagógico - início do sem
 estre fevereiro 2024\, é realizado com a participação de toda a equipe 
 do CP(docentes\, TAES\, monitores e estagiários)\, para discussão do in
 ício do semestre letivo do CP. Neste seminário são definidos os enturma
 mentos dos alunos\, horário escolar diário e semanal das disciplinas par
 a cada turma e atividades administrativas e pedagógicas de fevereiro à j
 ulho. Programação inicial - Para o dia 01/02: 08:00 - Chegada da equipe 
 ao auditório e café da manhã. 08:30 - Início das atividades - Informe 
 geral e encaminhamentos - Direção do CP 10:00 - Conversa com o DRI/UFMG 
 - Internacionalização do CP 11:00 - Reuniões entre Ciclos\, Núcleos e 
 Setores 12:00 - Intervalo para o Almoço 13:30 - Retorno do almoço e rein
 ício das atividades com os Ciclos\, Núcleos e Setores 16:30 - Compartilh
 amento das deliberações dos Ciclos\, Núcleos e Setores 17:00 - Encerram
 ento do 1º dia do Seminário. Programação 2º dia - Para o dia 02/02: 0
 8:00 - Chegada da equipe ao auditório e café da manhã. 08:30 - Início 
 das atividades - Informe geral e encaminhamentos - Direção do CP 10:00 -
  COPED/ CP 11:00 - Reuniões entre Ciclos\, Núcleos com os monitores do C
 P 2024 12:00 - Intervalo para o Almoço 13:30 - Retorno do almoço e rein
 ício das atividades com os Ciclos\, Núcleos e Setores 16:30 - Compartilh
 amento das deliberações dos Ciclos\, Núcleos e Setores 17:00 - Encerram
 ento do 1º dia do Seminário. OBs.: A programação poderá ser alterada 
 de acordo com deliberação da Direção do CP. Equipamentos necessários 
 - auditório A104-CAD2: Microfone de mão sem fio 2 (para a Mesa)\, Microf
 one de mão sem fio 1 (para o parlatório/púpito)\, 1 Notebook para trans
 missão do vídeos e slides. Projetor multimídia VGA\, Tela de projeção
  218 polegadas\, Sistema de som com caixas frontais. O operador da mesa de
  audiovisual e transmissão durante a solenidade. Responsável pelo Evento
 : Profa. Tânia Aretuza - Diretora do CP/EBAP/UFMG e Raquel A Dias\, servi
 dora TAE do Cenex/CP - Contato adicional: dir@cp.ufmg.br e queldiasrp@gmai
 l.com</p>
LAST-MODIFIED;VALUE=DATE-TIME:20240129T143013Z
URL:http://150.164.76.86:8080/cac/agenda/11297488337944908705
END:VEVENT
BEGIN:VTIMEZONE
TZID:America/Sao_Paulo
X-LIC-LOCATION:America/Sao_Paulo
BEGIN:DAYLIGHT
DTSTART;VALUE=DATE-TIME:20231015T010000
TZNAME:BRST
TZOFFSETFROM:-0300
TZOFFSETTO:-0200
END:DAYLIGHT
END:VTIMEZONE
END:VCALENDAR
