BEGIN:VCALENDAR
VERSION:2.0
PRODID:-//Plone.org//NONSGML plone.app.event//EN
X-WR-TIMEZONE:America/Sao_Paulo
BEGIN:VEVENT
SUMMARY:Reunião Conselho Universitário em [ Outros espacos]
DTSTART;TZID=America/Sao_Paulo;VALUE=DATE-TIME:20241114T140000
DTEND;TZID=America/Sao_Paulo;VALUE=DATE-TIME:20241114T180000
DTSTAMP;VALUE=DATE-TIME:20260419T180036Z
UID:ae80cb22e9804630b3f0ce753707be8a@150.164.76.86:8080
CREATED;VALUE=DATE-TIME:20241111T114552Z
DESCRIPTION:<p>Gravação do áudio</p>
LAST-MODIFIED;VALUE=DATE-TIME:20241111T114607Z
URL:http://150.164.76.86:8080/cac/agenda/11296930735415007160
END:VEVENT
BEGIN:VTIMEZONE
TZID:America/Sao_Paulo
X-LIC-LOCATION:America/Sao_Paulo
BEGIN:DAYLIGHT
DTSTART;VALUE=DATE-TIME:20241020T010000
TZNAME:BRST
TZOFFSETFROM:-0300
TZOFFSETTO:-0200
END:DAYLIGHT
END:VTIMEZONE
END:VCALENDAR
