BEGIN:VCALENDAR
VERSION:2.0
PRODID:-//Plone.org//NONSGML plone.app.event//EN
X-WR-TIMEZONE:America/Sao_Paulo
BEGIN:VEVENT
SUMMARY:DCC WEEK em [ Auditório B101/102 do CAD 3 Auditório B106 do CAD3
  Auditório B107 do CAD3]
DTSTART;TZID=America/Sao_Paulo;VALUE=DATE-TIME:20240805T080000
DTEND;TZID=America/Sao_Paulo;VALUE=DATE-TIME:20240809T200000
DTSTAMP;VALUE=DATE-TIME:20260419T222910Z
UID:68b3e24619644d1ebb0565a8ba57f494@150.164.76.86:8080
CREATED;VALUE=DATE-TIME:20240724T195110Z
DESCRIPTION:<p>Precisaremos de microfones\, som\, projeção\, internet. O
  David da nossa informática irá nos dar o suporte</p>
LAST-MODIFIED;VALUE=DATE-TIME:20240726T164138Z
URL:http://150.164.76.86:8080/cac/agenda/11273907934308428371
END:VEVENT
BEGIN:VTIMEZONE
TZID:America/Sao_Paulo
X-LIC-LOCATION:America/Sao_Paulo
BEGIN:STANDARD
DTSTART;VALUE=DATE-TIME:20240217T230000
TZNAME:BRT
TZOFFSETFROM:-0200
TZOFFSETTO:-0300
END:STANDARD
END:VTIMEZONE
END:VCALENDAR
