BEGIN:VCALENDAR
VERSION:2.0
PRODID:-//Plone.org//NONSGML plone.app.event//EN
X-WR-TIMEZONE:America/Sao_Paulo
BEGIN:VEVENT
SUMMARY:Bloqueio obras DEMAI Eletricidade em [ Auditório B101/102 do CAD 
 3 Auditório B106 do CAD3 Auditório B107 do CAD3]
DTSTART;TZID=America/Sao_Paulo;VALUE=DATE-TIME:20231204T070000
DTEND;TZID=America/Sao_Paulo;VALUE=DATE-TIME:20231207T220000
DTSTAMP;VALUE=DATE-TIME:20260420T102257Z
UID:d7b06fb346714d1c824dccff6f3e16a7@150.164.76.86:8080
CREATED;VALUE=DATE-TIME:20231017T134017Z
DESCRIPTION:<p>obras</p>
LAST-MODIFIED;VALUE=DATE-TIME:20231017T134045Z
URL:http://150.164.76.86:8080/cac/agenda/11239969079397668783
END:VEVENT
BEGIN:VTIMEZONE
TZID:America/Sao_Paulo
X-LIC-LOCATION:America/Sao_Paulo
BEGIN:DAYLIGHT
DTSTART;VALUE=DATE-TIME:20231015T010000
TZNAME:BRST
TZOFFSETFROM:-0300
TZOFFSETTO:-0200
END:DAYLIGHT
END:VTIMEZONE
END:VCALENDAR
