BEGIN:VCALENDAR
VERSION:2.0
PRODID:-//Plone.org//NONSGML plone.app.event//EN
X-WR-TIMEZONE:America/Sao_Paulo
BEGIN:VEVENT
SUMMARY:Ao cair da tarde em [ Outros espacos]
DTSTART;TZID=America/Sao_Paulo;VALUE=DATE-TIME:20220427T160000
DTEND;TZID=America/Sao_Paulo;VALUE=DATE-TIME:20220427T190000
DTSTAMP;VALUE=DATE-TIME:20260422T093548Z
UID:30388e8c9f064e01a7ec5214267ec8be@150.164.76.86:8080
CREATED;VALUE=DATE-TIME:20220407T161256Z
DESCRIPTION:<p><span>Orquestra Sinfônica da Escola de Música da UFMG</sp
 an></p>
LAST-MODIFIED;VALUE=DATE-TIME:20220407T161936Z
URL:http://150.164.76.86:8080/cac/agenda/11238154530282203857
END:VEVENT
BEGIN:VTIMEZONE
TZID:America/Sao_Paulo
X-LIC-LOCATION:America/Sao_Paulo
BEGIN:STANDARD
DTSTART;VALUE=DATE-TIME:20220219T230000
TZNAME:BRT
TZOFFSETFROM:-0200
TZOFFSETTO:-0300
END:STANDARD
END:VTIMEZONE
END:VCALENDAR
