BEGIN:VCALENDAR
VERSION:2.0
PRODID:-//Plone.org//NONSGML plone.app.event//EN
X-WR-TIMEZONE:America/Sao_Paulo
BEGIN:VEVENT
SUMMARY:GROUND2023 & 10th LPE : International Conference on Grounding & Li
 ghtning Physics and Effects em [ Auditório B101/102 do CAD 3]
DTSTART;TZID=America/Sao_Paulo;VALUE=DATE-TIME:20230505T070000
DTEND;TZID=America/Sao_Paulo;VALUE=DATE-TIME:20230512T200000
DTSTAMP;VALUE=DATE-TIME:20260421T115932Z
UID:9baf2ca85744432d9c7f73c7080c2d64@150.164.76.86:8080
CREATED;VALUE=DATE-TIME:20230201T181623Z
DESCRIPTION:<p>O evento científico trata dos avanços sobre as Descargas 
 Atmosféricas\, os Aterramentos Elétricos e Desempenho de Linhas de Trans
 missão frente a Descargas. Trat-se de evento tradicional em sua 13a. edi
 ção. A organização do evento está ciente de que o serviço de audiovi
 sual será contratado externamente pelo evento.</p>
LAST-MODIFIED;VALUE=DATE-TIME:20230424T140439Z
URL:http://150.164.76.86:8080/cac/agenda/11231744765178544174
END:VEVENT
BEGIN:VTIMEZONE
TZID:America/Sao_Paulo
X-LIC-LOCATION:America/Sao_Paulo
BEGIN:STANDARD
DTSTART;VALUE=DATE-TIME:20230225T230000
TZNAME:BRT
TZOFFSETFROM:-0200
TZOFFSETTO:-0300
END:STANDARD
END:VTIMEZONE
END:VCALENDAR
