BEGIN:VCALENDAR
VERSION:2.0
PRODID:-//Plone.org//NONSGML plone.app.event//EN
X-WR-TIMEZONE:America/Sao_Paulo
BEGIN:VEVENT
SUMMARY:Saúde\, educação e ética em tempos de pandemia: experiências 
 francesas e brasileiras em [ Outros espacos]
DTSTART;TZID=America/Sao_Paulo;VALUE=DATE-TIME:20220622T140000
DTEND;TZID=America/Sao_Paulo;VALUE=DATE-TIME:20220622T160000
DTSTAMP;VALUE=DATE-TIME:20260422T081436Z
UID:aa87254df4b94d698498b1ec9f4dc5d0@150.164.76.86:8080
CREATED;VALUE=DATE-TIME:20220603T195739Z
DESCRIPTION:<p>Data: 22 de junho Horário: 14 horas Brasil Título: Saúde
 \, educação e ética em tempos de pandemia: experiências francesas e br
 asileiras Abertura: Profa. Sandra Regina Goulart Almeida - Reitora UFMG e 
 Prof. Aziz Saliba - DRI UFMG Palestrantes: Prof. Emmanuel Rusch (Tours) e 
 Profa. Cristina Alvim (ou Unaí Tupinambás? - UFMG) - a definir (Comitê 
 Covid) Moderação: Profa. Daisy Cunha (FaE UFMG) Promoção: DRI UFMG O e
 vento já deve integrar o calendário de atividades institucionais em come
 moração aos 95 anos da UFMG.</p>
LAST-MODIFIED;VALUE=DATE-TIME:20220606T154929Z
URL:http://150.164.76.86:8080/cac/agenda/11222234179745616849
END:VEVENT
BEGIN:VTIMEZONE
TZID:America/Sao_Paulo
X-LIC-LOCATION:America/Sao_Paulo
BEGIN:STANDARD
DTSTART;VALUE=DATE-TIME:20220219T230000
TZNAME:BRT
TZOFFSETFROM:-0200
TZOFFSETTO:-0300
END:STANDARD
END:VTIMEZONE
END:VCALENDAR
