BEGIN:VCALENDAR
VERSION:2.0
PRODID:-//Plone.org//NONSGML plone.app.event//EN
X-WR-TIMEZONE:America/Sao_Paulo
BEGIN:VEVENT
SUMMARY:Aniversário da UFMG em [ Auditorio da Reitoria]
DTSTART;TZID=America/Sao_Paulo;VALUE=DATE-TIME:20240902T070000
DTEND;TZID=America/Sao_Paulo;VALUE=DATE-TIME:20240906T210000
DTSTAMP;VALUE=DATE-TIME:20260419T193001Z
UID:5d5c906fd8754fcebcb15f358e664197@150.164.76.86:8080
CREATED;VALUE=DATE-TIME:20240711T163122Z
DESCRIPTION:<p>aniversário ufmg</p>
LAST-MODIFIED;VALUE=DATE-TIME:20240711T163319Z
URL:http://150.164.76.86:8080/cac/agenda/1121666764887360254
END:VEVENT
BEGIN:VTIMEZONE
TZID:America/Sao_Paulo
X-LIC-LOCATION:America/Sao_Paulo
BEGIN:STANDARD
DTSTART;VALUE=DATE-TIME:20240217T230000
TZNAME:BRT
TZOFFSETFROM:-0200
TZOFFSETTO:-0300
END:STANDARD
END:VTIMEZONE
END:VCALENDAR
