BEGIN:VCALENDAR
VERSION:2.0
PRODID:-//Plone.org//NONSGML plone.app.event//EN
X-WR-TIMEZONE:America/Sao_Paulo
BEGIN:VEVENT
SUMMARY:Apresentação Sarandeiros- Congresso SciBioSus em [ Outros espaco
 s]
DTSTART;TZID=America/Sao_Paulo;VALUE=DATE-TIME:20230605T150000
DTEND;TZID=America/Sao_Paulo;VALUE=DATE-TIME:20230605T200000
DTSTAMP;VALUE=DATE-TIME:20260421T150013Z
UID:263607b4303b43b089ac0096db4d2b85@150.164.76.86:8080
CREATED;VALUE=DATE-TIME:20230522T134148Z
DESCRIPTION:<p>Demanda som e luz</p>
LAST-MODIFIED;VALUE=DATE-TIME:20230601T134204Z
URL:http://150.164.76.86:8080/cac/agenda/11213083394270561227
END:VEVENT
BEGIN:VTIMEZONE
TZID:America/Sao_Paulo
X-LIC-LOCATION:America/Sao_Paulo
BEGIN:STANDARD
DTSTART;VALUE=DATE-TIME:20230225T230000
TZNAME:BRT
TZOFFSETFROM:-0200
TZOFFSETTO:-0300
END:STANDARD
END:VTIMEZONE
END:VCALENDAR
