BEGIN:VCALENDAR
VERSION:2.0
PRODID:-//Plone.org//NONSGML plone.app.event//EN
X-WR-TIMEZONE:America/Sao_Paulo
BEGIN:VEVENT
SUMMARY:Domingo no Campus em [ Auditorio da Reitoria Saguao da Reitoria Gr
 amado da Reitoria Arena da praça de serviços Entorno da Praca de Servico
 s Auditorio Nobre do CAD 1 Auditorio 1A do CAD 1 Auditorio 2A do CAD 1 Aud
 itorio A102 do Cad 2 Auditorio A104 do Cad 2 Auditório B101/102 do CAD 3 
 Auditório B106 do CAD3 Auditório B107 do CAD3 Auditório B301 do CAD 3 A
 uditório B302 do CAD 3 Auditório B306 do CAD3 Outros espacos]
DTSTART;TZID=America/Sao_Paulo;VALUE=DATE-TIME:20240908T080000
DTEND;TZID=America/Sao_Paulo;VALUE=DATE-TIME:20240908T220000
DTSTAMP;VALUE=DATE-TIME:20260419T193323Z
UID:d0ae750ed0104222a9df2c793d478f17@150.164.76.86:8080
CREATED;VALUE=DATE-TIME:20231106T132353Z
DESCRIPTION:<p>Domingo no Campus</p>
LAST-MODIFIED;VALUE=DATE-TIME:20231106T132423Z
URL:http://150.164.76.86:8080/cac/agenda/11206091390193740714
END:VEVENT
BEGIN:VTIMEZONE
TZID:America/Sao_Paulo
X-LIC-LOCATION:America/Sao_Paulo
BEGIN:STANDARD
DTSTART;VALUE=DATE-TIME:20240217T230000
TZNAME:BRT
TZOFFSETFROM:-0200
TZOFFSETTO:-0300
END:STANDARD
END:VTIMEZONE
END:VCALENDAR
