BEGIN:VCALENDAR
VERSION:2.0
PRODID:-//Plone.org//NONSGML plone.app.event//EN
X-WR-TIMEZONE:America/Sao_Paulo
BEGIN:VEVENT
SUMMARY:Eighth Conference fo the International Association for Presocratic
  Studies em [ Auditorio A102 do Cad 2 Auditorio A104 do Cad 2]
DTSTART;TZID=America/Sao_Paulo;VALUE=DATE-TIME:20240701T080000
DTEND;TZID=America/Sao_Paulo;VALUE=DATE-TIME:20240705T180000
DTSTAMP;VALUE=DATE-TIME:20260419T222741Z
UID:28bff30cf8154b8c8d44f359af5247f1@150.164.76.86:8080
CREATED;VALUE=DATE-TIME:20230324T150837Z
DESCRIPTION:O evento\, que contará com a presença de professores\, pesqu
 isadores e estudantes vindos dos 5 continentes\, será realizado no perío
 do de 1° a 5 de julho de 2024\, no Campus da UFMG.\n\nSerá a primeira ve
 z que o evento será realizado no hemisfério Sul\, e representará uma op
 ortunidade ímpar para consolidarmos aqui no país a área da pesquisa em 
 filosofia antiga que se ocupa dos dois primeiros séculos da sua história
 .\nAlém disso\, teremos a oportunidade de apresentar aos colegas estrange
 iros a produção brasileira nesta área e desencadear futuros projetos de
  cooperação e intercâmbio com universidades estrangeiras.\n\nO programa
  do evento\, em fase de elaboração\, compreenderá conferências\, sess
 ões plenárias e sessões de comunicação e exposição de posteres que 
 serão distribuídas nos turnos da manhá e da tarde ao longo de toda a se
 mana entre 9 h e 18h.O espaço do Hall será destinado à instalação de 
 posters\, ao credenciamento\, e à apresentação das publicaçoes cientif
 icas dos participantes.\n\nNos auditórios\, utilizaremos os recursos audi
 ovisuais disponiveis\, a saber microfones e equipamento de data-show\, par
 a cuja operação providenciaremos o pessoal técnico.\n\nDo evento partic
 iparão não apenas aqueles que irão apresentar os resultados mais recent
 es de suas pesquisas\, mas também o publico interessado da comunidade uni
 versitária que terá livre acesso às sessões e às plenárias do evento
  mediante credenciamento.
LAST-MODIFIED;VALUE=DATE-TIME:20230327T144206Z
URL:http://150.164.76.86:8080/cac/agenda/1120170056161941875
END:VEVENT
BEGIN:VTIMEZONE
TZID:America/Sao_Paulo
X-LIC-LOCATION:America/Sao_Paulo
BEGIN:STANDARD
DTSTART;VALUE=DATE-TIME:20240217T230000
TZNAME:BRT
TZOFFSETFROM:-0200
TZOFFSETTO:-0300
END:STANDARD
END:VTIMEZONE
END:VCALENDAR
