BEGIN:VCALENDAR
VERSION:2.0
PRODID:-//Plone.org//NONSGML plone.app.event//EN
X-WR-TIMEZONE:America/Sao_Paulo
BEGIN:VEVENT
SUMMARY:Amuletos  de resistência em [ Gramado da Reitoria]
DTSTART;TZID=America/Sao_Paulo;VALUE=DATE-TIME:20240813T090000
DTEND;TZID=America/Sao_Paulo;VALUE=DATE-TIME:20240813T170000
DTSTAMP;VALUE=DATE-TIME:20260419T222741Z
UID:62644c117ce942f8a86ca745a3f16567@150.164.76.86:8080
CREATED;VALUE=DATE-TIME:20240731T190020Z
DESCRIPTION:Introdução\nComo resultado da pesquisa de iniciação cient
 ífica “Mulheres Artistas: A Expressão da violência”\, Sara Diniz Ag
 uiar\, graduanda em Artes Visuais\, orientada pela prof. Drª Juliana Gout
 hier Macedo e inspirada pelo trabalho da artista e ativista cultural mexic
 ana Lorena Wolffer\, propõe esta ação coletiva buscando criar espaço s
 eguro e acolhedor onde mulheres e demais pessoas que desejarem participar 
 possam compartilhar suas histórias relacionadas à violência de gênero.
  Durante um momento de troca\, as pessoas interessadas poderão confeccion
 ar um amuleto em argila\, simbolizando força\, cura e resistência contra
  a estrutura patriarcal que enraíza a violência de gênero.\nObjetivo\n
 •	Proporcionar espaço seguro e confortável de diálogo e troca de expe
 riências pessoais\n•	Promover reflexão sobre o impacto da violência d
 e gênero em nosso cotidiano\n•	Utilizar da modelagem e da argila como m
 eio de dar vazão às experiências vividas\n•	Montar uma instalação c
 om a produção\, a fim de construir uma ocupação espacial e visual das 
 histórias compartilhadas \nDescrição da Ação:\nDo espaço\nA montagem
  do espaço inclui a disposição das mesas e cadeiras sob guarda-sol no g
 ramado da Reitoria da UFMG. À mesa estarão dispostos os materiais necess
 ários como argila\, engobes e ferramentas de modelagem.\nDa ação\nEsta 
 ação\, inspirada pelo trabalho da ativista cultura mexicana Lorena Wolff
 er e do entendimento da arte como possibilidade de potencializar transform
 ações sociais\, propõe uma intervenção no espaço do gramado da Reito
 ria da UFMG. O ambiente será preparado pare receber o público e à medid
 a em que este se aproximar\, serão dadas informações sobre como a açã
 o se desdobra e qual a intenção de produzir esses amuletos de maneira co
 njunta. \n A mesa ficará à disposição ao longo do dia com o convite ab
 erto a mulheres e outras pessoas que queiram participar a se sentarem e pr
 oduzirem. Haverá incentivo às participantes que compartilharem história
 s e experiências suas e de pessoas conhecidas enquanto trabalham na cria
 ção de seus amuletos.\nEstaremos (orientadora e orientanda) à disposiç
 ão também para orientação e assistência na criação das peças\, se 
 necessário\, mas deixando espaço para a expressão individual e criativi
 dade.\nEncerramento\nAgradecimento a todas as participantes pela contribui
 ção e partilha de suas histórias e distribuição de folhetos informati
 vos sobre direitos das mulheres\, centros de apoio e recursos disponíveis
  para quem enfrenta violência de gênero\, bem como o preenchimento\, por
  parte das participantes\,  de uma ficha de contato\, para a entrega dos a
 muletos prontos.\nExposição dos Amuletos\nAo final da ação\, os amulet
 os serão queimados em baixa temperatura em forno para cerâmica e no dia 
 21/08/2024* será montada uma instalação também\, se possível\,  no Gr
 amado da Reitoria da UFMG com todos os amuletos\, podendo suas autoras ret
 irarem os seus e levá-los consigo. Toda a ação será registrada\, com a
  permissão das participantes\, para documentar o processo e a diversidade
  das experiências compartilhadas e os registros integrarão a apresentaç
 ão de Iniciação Científica na semana do Conhecimento que ocorrerá em 
 outubro. \n*Se esta ação for aprovada\, entraremos com nova solicitaçã
 o de evento para a montagem da instalação. \nMateriais Necessários\n•
 	Mesa e cadeiras\nNotas de conclusão\nA ação aqui proposta mira a const
 rução de um espaço onde as histórias de opressão e superação podem 
 ser ouvidas\, reconhecidas e transformadas em símbolos de força. Busca e
 nfatizar a importância de redes de troca e reflexão e a possibilidade de
  pensarmos a construção de caminhos e saídas coletivas para o enfrentam
 ento da violência de gênero\, indicando a arte também como possibilidad
 e de assunção da mesma.
LAST-MODIFIED;VALUE=DATE-TIME:20240801T132820Z
URL:http://150.164.76.86:8080/cac/agenda/11182580182316046985
END:VEVENT
BEGIN:VTIMEZONE
TZID:America/Sao_Paulo
X-LIC-LOCATION:America/Sao_Paulo
BEGIN:STANDARD
DTSTART;VALUE=DATE-TIME:20240217T230000
TZNAME:BRT
TZOFFSETFROM:-0200
TZOFFSETTO:-0300
END:STANDARD
END:VTIMEZONE
END:VCALENDAR
