BEGIN:VCALENDAR
VERSION:2.0
PRODID:-//Plone.org//NONSGML plone.app.event//EN
X-WR-TIMEZONE:America/Sao_Paulo
BEGIN:VEVENT
SUMMARY:CONCURSO TAE UFMG Edital Nº 526/2022 em [ Auditorio Nobre do CAD 
 1 Auditorio 1A do CAD 1 Auditorio 2A do CAD 1 Auditorio A102 do Cad 2 Audi
 torio A104 do Cad 2 Auditório B302 do CAD 3 Auditório B101/102 do CAD 3 
 Auditório B301 do CAD 3]
DTSTART;TZID=America/Sao_Paulo;VALUE=DATE-TIME:20220528T080000
DTEND;TZID=America/Sao_Paulo;VALUE=DATE-TIME:20220529T210000
DTSTAMP;VALUE=DATE-TIME:20260422T081436Z
UID:2dcbce0e5e5547fbb8915808f32cf04d@150.164.76.86:8080
CREATED;VALUE=DATE-TIME:20220330T115411Z
DESCRIPTION:<p><span>reserva dos CADs 1\, 2 e 3\, nos dias 28 e 29 de maio
  de 2022\, para abrigar o concurso administrado pela COPEVE</span></p>
LAST-MODIFIED;VALUE=DATE-TIME:20230111T201035Z
URL:http://150.164.76.86:8080/cac/agenda/11159152304149816953
END:VEVENT
BEGIN:VTIMEZONE
TZID:America/Sao_Paulo
X-LIC-LOCATION:America/Sao_Paulo
BEGIN:STANDARD
DTSTART;VALUE=DATE-TIME:20220219T230000
TZNAME:BRT
TZOFFSETFROM:-0200
TZOFFSETTO:-0300
END:STANDARD
END:VTIMEZONE
END:VCALENDAR
