BEGIN:VCALENDAR
VERSION:2.0
PRODID:-//Plone.org//NONSGML plone.app.event//EN
X-WR-TIMEZONE:America/Sao_Paulo
BEGIN:VEVENT
SUMMARY:Pronassolos - Mapeamento de Solos do Brasil (Epamig) em [ Auditori
 o A102 do Cad 2]
DTSTART;TZID=America/Sao_Paulo;VALUE=DATE-TIME:20230403T070000
DTEND;TZID=America/Sao_Paulo;VALUE=DATE-TIME:20230404T190000
DTSTAMP;VALUE=DATE-TIME:20260421T132809Z
UID:d8c183f8bf534d9a874430f21a377039@150.164.76.86:8080
CREATED;VALUE=DATE-TIME:20230323T125436Z
DESCRIPTION:<p>Datashow\, netebook (se possível)\, microfones e mesas no 
 palco</p>
LAST-MODIFIED;VALUE=DATE-TIME:20230331T121420Z
URL:http://150.164.76.86:8080/cac/agenda/11148869959255552075
END:VEVENT
BEGIN:VTIMEZONE
TZID:America/Sao_Paulo
X-LIC-LOCATION:America/Sao_Paulo
BEGIN:STANDARD
DTSTART;VALUE=DATE-TIME:20230225T230000
TZNAME:BRT
TZOFFSETFROM:-0200
TZOFFSETTO:-0300
END:STANDARD
END:VTIMEZONE
END:VCALENDAR
