BEGIN:VCALENDAR
VERSION:2.0
PRODID:-//Plone.org//NONSGML plone.app.event//EN
X-WR-TIMEZONE:America/Sao_Paulo
BEGIN:VEVENT
SUMMARY:A trajetória de pesquisadoras(es) negras(os) na universidade bras
 ileira em [ Auditório B107 do CAD3]
DTSTART;TZID=America/Sao_Paulo;VALUE=DATE-TIME:20241127T140000
DTEND;TZID=America/Sao_Paulo;VALUE=DATE-TIME:20241127T170000
DTSTAMP;VALUE=DATE-TIME:20260419T193225Z
UID:1482eee5e40e4ab69d7800696aed80a6@150.164.76.86:8080
CREATED;VALUE=DATE-TIME:20241107T132237Z
DESCRIPTION:Computador\nDatashow\nMicrofone\n\n\nResumo da Atividade:\nTr
 ês docentes negras(os) com destacada atividade de pesquisa são convidada
 s a refletir sobre sua trajetória na UFMG\, abrangendo tanto os aspectos 
 acadêmicos e institucionais\,\ncomo também sua atividade política na lu
 ta por uma universidade antirracista.
LAST-MODIFIED;VALUE=DATE-TIME:20241107T140832Z
URL:http://150.164.76.86:8080/cac/agenda/11148498524927932869
END:VEVENT
BEGIN:VTIMEZONE
TZID:America/Sao_Paulo
X-LIC-LOCATION:America/Sao_Paulo
BEGIN:DAYLIGHT
DTSTART;VALUE=DATE-TIME:20241020T010000
TZNAME:BRST
TZOFFSETFROM:-0300
TZOFFSETTO:-0200
END:DAYLIGHT
END:VTIMEZONE
END:VCALENDAR
