BEGIN:VCALENDAR
VERSION:2.0
PRODID:-//Plone.org//NONSGML plone.app.event//EN
X-WR-TIMEZONE:America/Sao_Paulo
BEGIN:VEVENT
SUMMARY:29º Congresso Nacional de Pós- Graduandos em [ Auditorio Nobre d
 o CAD 1 Auditorio 1A do CAD 1 Auditorio 2A do CAD 1]
DTSTART;TZID=America/Sao_Paulo;VALUE=DATE-TIME:20240713T080000
DTEND;TZID=America/Sao_Paulo;VALUE=DATE-TIME:20240714T200000
DTSTAMP;VALUE=DATE-TIME:20260419T234813Z
UID:bcabbd8ea5574d2d8cfd2e58bbaba7df@150.164.76.86:8080
CREATED;VALUE=DATE-TIME:20240521T172341Z
DESCRIPTION:<p><span>29º Congresso Nacional de Pós- Graduandos</span></p
 >
LAST-MODIFIED;VALUE=DATE-TIME:20240521T172405Z
URL:http://150.164.76.86:8080/cac/agenda/11131186346499646412
END:VEVENT
BEGIN:VTIMEZONE
TZID:America/Sao_Paulo
X-LIC-LOCATION:America/Sao_Paulo
BEGIN:STANDARD
DTSTART;VALUE=DATE-TIME:20240217T230000
TZNAME:BRT
TZOFFSETFROM:-0200
TZOFFSETTO:-0300
END:STANDARD
END:VTIMEZONE
END:VCALENDAR
