BEGIN:VCALENDAR
VERSION:2.0
PRODID:-//Plone.org//NONSGML plone.app.event//EN
X-WR-TIMEZONE:America/Sao_Paulo
BEGIN:VEVENT
SUMMARY:CAPACIDADE EXCEDIDA em [ Saguao da Reitoria Auditorio da Reitoria 
 Gramado da Reitoria Entorno da Praca de Servicos Auditorio 1A do CAD 1 Aud
 itorio 2A do CAD 1 Auditorio A102 do Cad 2 Auditorio A104 do Cad 2 Arena d
 a praça de serviços Auditório B302 do CAD 3 Auditório B101/102 do CAD 
 3 Auditório B301 do CAD 3]
DTSTART;TZID=America/Sao_Paulo;VALUE=DATE-TIME:20201211T130000
DTEND;TZID=America/Sao_Paulo;VALUE=DATE-TIME:20201211T170000
DTSTAMP;VALUE=DATE-TIME:20260424T150013Z
UID:a52bf8e71385402f8e3f072b7c561025@150.164.76.86:8080
CREATED;VALUE=DATE-TIME:20200206T132251Z
DESCRIPTION:<p>.</p>
LAST-MODIFIED;VALUE=DATE-TIME:20230111T201049Z
URL:http://150.164.76.86:8080/cac/agenda/11107145283600465342
END:VEVENT
BEGIN:VTIMEZONE
TZID:America/Sao_Paulo
X-LIC-LOCATION:America/Sao_Paulo
BEGIN:DAYLIGHT
DTSTART;VALUE=DATE-TIME:20201018T010000
TZNAME:BRST
TZOFFSETFROM:-0300
TZOFFSETTO:-0200
END:DAYLIGHT
END:VTIMEZONE
END:VCALENDAR
