BEGIN:VCALENDAR
VERSION:2.0
PRODID:-//Plone.org//NONSGML plone.app.event//EN
X-WR-TIMEZONE:America/Sao_Paulo
BEGIN:VEVENT
SUMMARY:BANCAS DE HETEROIDENTIFICAÇÃO em [ Auditório B101/102 do CAD 3 
 Auditório B106 do CAD3 Auditório B107 do CAD3]
DTSTART;TZID=America/Sao_Paulo;VALUE=DATE-TIME:20230802T070000
DTEND;TZID=America/Sao_Paulo;VALUE=DATE-TIME:20230802T180000
DTSTAMP;VALUE=DATE-TIME:20260421T075425Z
UID:426943d2c1e1419f9d0e1f4f3a89b0fe@150.164.76.86:8080
CREATED;VALUE=DATE-TIME:20230216T181625Z
DESCRIPTION:<p><span><span><span><span><span><span><span>Registro Acadêmi
 co Presencial - Bancas de Heteroidentificação</span></span></span></span
 ></span></span></span></p>
LAST-MODIFIED;VALUE=DATE-TIME:20230217T121355Z
URL:http://150.164.76.86:8080/cac/agenda/11104217596245999303
END:VEVENT
BEGIN:VTIMEZONE
TZID:America/Sao_Paulo
X-LIC-LOCATION:America/Sao_Paulo
BEGIN:STANDARD
DTSTART;VALUE=DATE-TIME:20230225T230000
TZNAME:BRT
TZOFFSETFROM:-0200
TZOFFSETTO:-0300
END:STANDARD
END:VTIMEZONE
END:VCALENDAR
