BEGIN:VCALENDAR
VERSION:2.0
PRODID:-//Plone.org//NONSGML plone.app.event//EN
X-WR-TIMEZONE:America/Sao_Paulo
BEGIN:VEVENT
SUMMARY:Cerimônia de Posse da Nova Diretoria da Escola de Veterinária em
  [ Outros espacos]
DTSTART;TZID=America/Sao_Paulo;VALUE=DATE-TIME:20220603T100000
DTEND;TZID=America/Sao_Paulo;VALUE=DATE-TIME:20220603T120000
DTSTAMP;VALUE=DATE-TIME:20260422T050859Z
UID:c63593adf5764d3ab3ec63f22287adaf@150.164.76.86:8080
CREATED;VALUE=DATE-TIME:20220412T125427Z
DESCRIPTION:<p>Apoio técnico operacional ao evento\, com disponibilizaç
 ão de uma câmera filmadora e dois técnicos em audiovisual. A Unidade po
 ssui um técnico em audiovisual\, uma câmera e uma mesa de edição\, nec
 essitando do apoio de mais dois técnicos para a realização do evento\, 
 por contar somente com um servidor lotado no setor.</p>
LAST-MODIFIED;VALUE=DATE-TIME:20220419T164328Z
URL:http://150.164.76.86:8080/cac/agenda/1110078049863137906
END:VEVENT
BEGIN:VTIMEZONE
TZID:America/Sao_Paulo
X-LIC-LOCATION:America/Sao_Paulo
BEGIN:STANDARD
DTSTART;VALUE=DATE-TIME:20220219T230000
TZNAME:BRT
TZOFFSETFROM:-0200
TZOFFSETTO:-0300
END:STANDARD
END:VTIMEZONE
END:VCALENDAR
