BEGIN:VCALENDAR
VERSION:2.0
PRODID:-//Plone.org//NONSGML plone.app.event//EN
X-WR-TIMEZONE:America/Sao_Paulo
BEGIN:VEVENT
SUMMARY:Dia Internacional da Língua Chinesa em [ Auditorio A102 do Cad 2]
DTSTART;TZID=America/Sao_Paulo;VALUE=DATE-TIME:20250415T090000
DTEND;TZID=America/Sao_Paulo;VALUE=DATE-TIME:20250415T120000
DTSTAMP;VALUE=DATE-TIME:20260419T104714Z
UID:81ef65cca0414c0ca3dca51e4e7edb30@150.164.76.86:8080
CREATED;VALUE=DATE-TIME:20250310T201020Z
DESCRIPTION:O "Dia Internacional da Língua Chinesa" busca promover um con
 tato entre a língua chinesa e o público brasileiro (sobretudo a comunida
 de estudantil)\, expondo as atividades do Instituto Confúcio e\nfomentand
 o o interesse pela cultura milenar de um país que vem ganhando cada vez m
 ais proeminência no cenário global atual.
LAST-MODIFIED;VALUE=DATE-TIME:20250313T141120Z
URL:http://150.164.76.86:8080/cac/agenda/11099897317058125193
END:VEVENT
BEGIN:VTIMEZONE
TZID:America/Sao_Paulo
X-LIC-LOCATION:America/Sao_Paulo
BEGIN:STANDARD
DTSTART;VALUE=DATE-TIME:20250215T230000
TZNAME:BRT
TZOFFSETFROM:-0200
TZOFFSETTO:-0300
END:STANDARD
END:VTIMEZONE
END:VCALENDAR
