BEGIN:VCALENDAR
VERSION:2.0
PRODID:-//Plone.org//NONSGML plone.app.event//EN
X-WR-TIMEZONE:America/Sao_Paulo
BEGIN:VEVENT
SUMMARY:Aviva Universitário em [ Entorno da Praca de Servicos]
DTSTART;TZID=America/Sao_Paulo;VALUE=DATE-TIME:20241126T193000
DTEND;TZID=America/Sao_Paulo;VALUE=DATE-TIME:20241126T203000
DTSTAMP;VALUE=DATE-TIME:20260419T193443Z
UID:18ecd077502d4489ab34c86eee8a3125@150.164.76.86:8080
CREATED;VALUE=DATE-TIME:20241119T235006Z
DESCRIPTION:Solicitamos a praça de serviços da UFMG para a realização 
 do Aviva Universitário\, no dia 26/11/2024\, com início às 18:00 e term
 ino às 19:00. O Evento tem como propósito trazer uma mensagem de fé e e
 sperança com um viés cultural\, para trazer saúde mental e realinhament
 o de propósito para os alunos\, não utilizando som e respeitando o ambie
 nte acadêmico\n\nPúblico Alvo: Comunidade Acadêmica \n\nQuantidade Espe
 rada: 50 alunos\n\nEquipamentos utilizados: Nenhum\n\nObjetivo: Trazer uma
  mensagem positivo e de encorajamento para os universitários no final de 
 ano
LAST-MODIFIED;VALUE=DATE-TIME:20241122T150048Z
URL:http://150.164.76.86:8080/cac/agenda/11097217887984422345
END:VEVENT
BEGIN:VTIMEZONE
TZID:America/Sao_Paulo
X-LIC-LOCATION:America/Sao_Paulo
BEGIN:DAYLIGHT
DTSTART;VALUE=DATE-TIME:20241020T010000
TZNAME:BRST
TZOFFSETFROM:-0300
TZOFFSETTO:-0200
END:DAYLIGHT
END:VTIMEZONE
END:VCALENDAR
