BEGIN:VCALENDAR
VERSION:2.0
PRODID:-//Plone.org//NONSGML plone.app.event//EN
X-WR-TIMEZONE:America/Sao_Paulo
BEGIN:VEVENT
SUMMARY:Concurso para cargo de Defensor Público da DPMG - Provas Discursi
 vas em [ Outros espacos Auditório B101/102 do CAD 3 Auditório B106 do CA
 D3 - s/ ar condic Auditório B107 do CAD3 Auditório B301 do CAD 3 Auditó
 rio B302 do CAD 3 Auditório B306 do CAD3]
DTSTART;TZID=America/Sao_Paulo;VALUE=DATE-TIME:20240316T050000
DTEND;TZID=America/Sao_Paulo;VALUE=DATE-TIME:20240317T200000
DTSTAMP;VALUE=DATE-TIME:20260420T062948Z
UID:226b40258144455fb0600a7b8bce6e19@150.164.76.86:8080
CREATED;VALUE=DATE-TIME:20240202T132621Z
DESCRIPTION:<p><span>(Em Sexta-feira\, 02 De fevereiro De 2024 10:04 AM e
 -mail para coord@cac.ufmg.br)<br /></span></p>\n<p><span>Prezada Sheila\, 
 bom dia!<br /><br /></span><span>Solicito reserva do CAD 3 nos dias </span
 ><b><span>16 e 17/03/24</span></b><span> para realização da etapa de pr
 ovas discursivas do Concurso para cargo de Defensor Público da DPMG. </sp
 an><br /><span>Esclareço que estamos cientes da reserva do CAD3 para o Re
 valida 2024 no dia 17/03 e\, portanto\, solicito alteração do evento. Ut
 ilizaremos o CAD2\,  e se necessário\, o CAD1 para o REVALIDA.<br /></sp
 an><br /><span>Quaisquer dúvidas estou à disposição.<br />Cordialmente
 \,    </span><span><br /></span></p>
LAST-MODIFIED;VALUE=DATE-TIME:20240202T132716Z
URL:http://150.164.76.86:8080/cac/agenda/11094486209772488806
END:VEVENT
BEGIN:VTIMEZONE
TZID:America/Sao_Paulo
X-LIC-LOCATION:America/Sao_Paulo
BEGIN:STANDARD
DTSTART;VALUE=DATE-TIME:20240217T230000
TZNAME:BRT
TZOFFSETFROM:-0200
TZOFFSETTO:-0300
END:STANDARD
END:VTIMEZONE
END:VCALENDAR
