BEGIN:VCALENDAR
VERSION:2.0
PRODID:-//Plone.org//NONSGML plone.app.event//EN
X-WR-TIMEZONE:America/Sao_Paulo
BEGIN:VEVENT
SUMMARY:Seminário Teorias da Comunicação e Experiência em [ Auditorio 
 A102 do Cad 2]
DTSTART;TZID=America/Sao_Paulo;VALUE=DATE-TIME:20221110T130000
DTEND;TZID=America/Sao_Paulo;VALUE=DATE-TIME:20221111T120000
DTSTAMP;VALUE=DATE-TIME:20260421T221710Z
UID:3c18c519a2444cc990f954bc630169c7@150.164.76.86:8080
CREATED;VALUE=DATE-TIME:20220825T151400Z
DESCRIPTION:<p>O Seminário Teorias da Comunicação e Experiência é uma
  iniciativa dos grupos de pesquisa NEEPEC (Núcleo de Estudos em Estética
  do Performativo e Experiência Comunicacional) e Tramas (Núcleo de Estud
 os Tramas Comunicacionais: Narrativa e Experiência)\, ambos vinculados ao
  PPGCOM/UFMG. O evento\, de curta duração\, reunirá pesquisadores e pes
 quisadoras brasileiras\, de diferentes instituições\, e tem público est
 imado de 100 pessoas</p>
LAST-MODIFIED;VALUE=DATE-TIME:20220922T171506Z
URL:http://150.164.76.86:8080/cac/agenda/11087594084558176318
END:VEVENT
BEGIN:VTIMEZONE
TZID:America/Sao_Paulo
X-LIC-LOCATION:America/Sao_Paulo
BEGIN:DAYLIGHT
DTSTART;VALUE=DATE-TIME:20221016T010000
TZNAME:BRST
TZOFFSETFROM:-0300
TZOFFSETTO:-0200
END:DAYLIGHT
END:VTIMEZONE
END:VCALENDAR
