BEGIN:VCALENDAR
VERSION:2.0
PRODID:-//Plone.org//NONSGML plone.app.event//EN
X-WR-TIMEZONE:America/Sao_Paulo
BEGIN:VEVENT
SUMMARY:Recepção de Estudantes - Tenda VIVER UFMG em [ Outros espacos]
DTSTART;TZID=America/Sao_Paulo;VALUE=DATE-TIME:20230315T090000
DTEND;TZID=America/Sao_Paulo;VALUE=DATE-TIME:20230403T100000
DTSTAMP;VALUE=DATE-TIME:20260421T133134Z
UID:092355d90998496a8cc652cbc08ae0b4@150.164.76.86:8080
CREATED;VALUE=DATE-TIME:20230215T130836Z
DESCRIPTION:<p>Montagem da Tenda VIVER UFMG no Centro da Praça de Serviç
 os - Campus onde acontecerá a Recepção de Estudantes no primeiro semest
 re de 2023. O evento acontecerá do dia 15 de Março ao dia 03 de abril. A
  TENDA VIVER UFMG funcionará de 8:30h às 20h de Segunda à Sexta.</p>
LAST-MODIFIED;VALUE=DATE-TIME:20230215T144407Z
URL:http://150.164.76.86:8080/cac/agenda/11076649663562588436
END:VEVENT
BEGIN:VTIMEZONE
TZID:America/Sao_Paulo
X-LIC-LOCATION:America/Sao_Paulo
BEGIN:STANDARD
DTSTART;VALUE=DATE-TIME:20230225T230000
TZNAME:BRT
TZOFFSETFROM:-0200
TZOFFSETTO:-0300
END:STANDARD
END:VTIMEZONE
END:VCALENDAR
