BEGIN:VCALENDAR
VERSION:2.0
PRODID:-//Plone.org//NONSGML plone.app.event//EN
X-WR-TIMEZONE:America/Sao_Paulo
BEGIN:VEVENT
SUMMARY:Inauguração Complexo Fotovoltaico em [ Auditório B101 do CAD 3]
DTSTART;TZID=America/Sao_Paulo;VALUE=DATE-TIME:20221129T100000
DTEND;TZID=America/Sao_Paulo;VALUE=DATE-TIME:20221129T110000
DTSTAMP;VALUE=DATE-TIME:20260421T221016Z
UID:59ee53c324c14ab6bc466e3502bffd64@150.164.76.86:8080
CREATED;VALUE=DATE-TIME:20221123T151441Z
DESCRIPTION:<p>Presença da reitora</p>
LAST-MODIFIED;VALUE=DATE-TIME:20221123T151450Z
URL:http://150.164.76.86:8080/cac/agenda/11068071176702341084
END:VEVENT
BEGIN:VTIMEZONE
TZID:America/Sao_Paulo
X-LIC-LOCATION:America/Sao_Paulo
BEGIN:DAYLIGHT
DTSTART;VALUE=DATE-TIME:20221016T010000
TZNAME:BRST
TZOFFSETFROM:-0300
TZOFFSETTO:-0200
END:DAYLIGHT
END:VTIMEZONE
END:VCALENDAR
