BEGIN:VCALENDAR
VERSION:2.0
PRODID:-//Plone.org//NONSGML plone.app.event//EN
X-WR-TIMEZONE:America/Sao_Paulo
BEGIN:VEVENT
SUMMARY:Lançamento Edital Inova UFMG - Incubadora de Empresas em [ Audito
 rio A104 do Cad 2]
DTSTART;TZID=America/Sao_Paulo;VALUE=DATE-TIME:20230901T140000
DTEND;TZID=America/Sao_Paulo;VALUE=DATE-TIME:20230901T170000
DTSTAMP;VALUE=DATE-TIME:20260421T062501Z
UID:75c20ed9587548998070571cd56e4b6c@150.164.76.86:8080
CREATED;VALUE=DATE-TIME:20230725T171530Z
DESCRIPTION:Lançamento Edital
LAST-MODIFIED;VALUE=DATE-TIME:20230726T133556Z
URL:http://150.164.76.86:8080/cac/agenda/11047987750863956163
END:VEVENT
BEGIN:VTIMEZONE
TZID:America/Sao_Paulo
X-LIC-LOCATION:America/Sao_Paulo
BEGIN:STANDARD
DTSTART;VALUE=DATE-TIME:20230225T230000
TZNAME:BRT
TZOFFSETFROM:-0200
TZOFFSETTO:-0300
END:STANDARD
END:VTIMEZONE
END:VCALENDAR
