BEGIN:VCALENDAR
VERSION:2.0
PRODID:-//Plone.org//NONSGML plone.app.event//EN
X-WR-TIMEZONE:America/Sao_Paulo
BEGIN:VEVENT
SUMMARY:Encontro - Encerramento do Exercício 2023 em [ Auditorio da Reito
 ria]
DTSTART;TZID=America/Sao_Paulo;VALUE=DATE-TIME:20231121T130000
DTEND;TZID=America/Sao_Paulo;VALUE=DATE-TIME:20231121T173000
DTSTAMP;VALUE=DATE-TIME:20260420T130705Z
UID:473e1e9d34a74868afc7b8d9967fc2e1@150.164.76.86:8080
CREATED;VALUE=DATE-TIME:20231018T122030Z
DESCRIPTION:<p>Equipamentos e serviços: Projetor\, microfones. O Encontro
  visa aperfeiçoar os procedimentos relacionados à área contábil\, fina
 nceira e patrimonial\, envolvendo todos os setores de contabilidade da uni
 versidade. A programação do evento ainda está em fase de elaboração.<
 /p>
LAST-MODIFIED;VALUE=DATE-TIME:20231018T133608Z
URL:http://150.164.76.86:8080/cac/agenda/11017249718920034819
END:VEVENT
BEGIN:VTIMEZONE
TZID:America/Sao_Paulo
X-LIC-LOCATION:America/Sao_Paulo
BEGIN:DAYLIGHT
DTSTART;VALUE=DATE-TIME:20231015T010000
TZNAME:BRST
TZOFFSETFROM:-0300
TZOFFSETTO:-0200
END:DAYLIGHT
END:VTIMEZONE
END:VCALENDAR
