BEGIN:VCALENDAR
VERSION:2.0
PRODID:-//Plone.org//NONSGML plone.app.event//EN
X-WR-TIMEZONE:America/Sao_Paulo
BEGIN:VEVENT
SUMMARY:Simpósio do Instituto Nacional de Ciência e Tecnologia em dengue
  - INCT D em [ Auditorio A102 do Cad 2 Auditorio A104 do Cad 2]
DTSTART;TZID=America/Sao_Paulo;VALUE=DATE-TIME:20240828T080000
DTEND;TZID=America/Sao_Paulo;VALUE=DATE-TIME:20240830T210000
DTSTAMP;VALUE=DATE-TIME:20260419T222029Z
UID:837da51beb574492bd5174dfe618e2c4@150.164.76.86:8080
CREATED;VALUE=DATE-TIME:20240605T190550Z
DESCRIPTION:<p>Audiovisual\, cozinha para cooffe break</p>
LAST-MODIFIED;VALUE=DATE-TIME:20240617T155206Z
URL:http://150.164.76.86:8080/cac/agenda/11010011371700197237
END:VEVENT
BEGIN:VTIMEZONE
TZID:America/Sao_Paulo
X-LIC-LOCATION:America/Sao_Paulo
BEGIN:STANDARD
DTSTART;VALUE=DATE-TIME:20240217T230000
TZNAME:BRT
TZOFFSETFROM:-0200
TZOFFSETTO:-0300
END:STANDARD
END:VTIMEZONE
END:VCALENDAR
