BEGIN:VCALENDAR
VERSION:2.0
PRODID:-//Plone.org//NONSGML plone.app.event//EN
X-WR-TIMEZONE:America/Sao_Paulo
BEGIN:VEVENT
SUMMARY:Mercado das Pulgas em [ Em torno da Praca de Servicos]
DTSTART;TZID=America/Sao_Paulo;VALUE=DATE-TIME:20220808T090000
DTEND;TZID=America/Sao_Paulo;VALUE=DATE-TIME:20220812T170000
DTSTAMP;VALUE=DATE-TIME:20260422T012758Z
UID:e3c7a60d3fa54ebfbfc3e66d35e57ac3@150.164.76.86:8080
CREATED;VALUE=DATE-TIME:20220502T190530Z
DESCRIPTION:<p>Precisaremos de 50 paineis</p>
LAST-MODIFIED;VALUE=DATE-TIME:20220711T182616Z
URL:http://150.164.76.86:8080/cac/agenda/10977788504697817079
END:VEVENT
BEGIN:VTIMEZONE
TZID:America/Sao_Paulo
X-LIC-LOCATION:America/Sao_Paulo
BEGIN:STANDARD
DTSTART;VALUE=DATE-TIME:20220219T230000
TZNAME:BRT
TZOFFSETFROM:-0200
TZOFFSETTO:-0300
END:STANDARD
END:VTIMEZONE
END:VCALENDAR
