BEGIN:VCALENDAR
VERSION:2.0
PRODID:-//Plone.org//NONSGML plone.app.event//EN
X-WR-TIMEZONE:America/Sao_Paulo
BEGIN:VEVENT
SUMMARY:II encontro nacional de bibliotecarias/os negras/os em em [ Audito
 rio A102 do Cad 2]
DTSTART;TZID=America/Sao_Paulo;VALUE=DATE-TIME:20200828T083000
DTEND;TZID=America/Sao_Paulo;VALUE=DATE-TIME:20200828T170000
DTSTAMP;VALUE=DATE-TIME:20260424T200316Z
UID:282b2192f78f423880741e49cf1822cc@150.164.76.86:8080
CREATED;VALUE=DATE-TIME:20200306T213327Z
DESCRIPTION:<p>Equipamentos de audio e video</p>
LAST-MODIFIED;VALUE=DATE-TIME:20200309T105620Z
URL:http://150.164.76.86:8080/cac/agenda/10967432522045993466
END:VEVENT
BEGIN:VTIMEZONE
TZID:America/Sao_Paulo
X-LIC-LOCATION:America/Sao_Paulo
BEGIN:STANDARD
DTSTART;VALUE=DATE-TIME:20200215T230000
TZNAME:BRT
TZOFFSETFROM:-0200
TZOFFSETTO:-0300
END:STANDARD
END:VTIMEZONE
END:VCALENDAR
