BEGIN:VCALENDAR
VERSION:2.0
PRODID:-//Plone.org//NONSGML plone.app.event//EN
X-WR-TIMEZONE:America/Sao_Paulo
BEGIN:VEVENT
SUMMARY:Tópicos em Filosofia em [ Auditório B107 do CAD3]
DTSTART;TZID=America/Sao_Paulo;VALUE=DATE-TIME:20241011T130000
DTEND;TZID=America/Sao_Paulo;VALUE=DATE-TIME:20241011T180000
DTSTAMP;VALUE=DATE-TIME:20260419T191901Z
UID:1cf890d605e1431596ee691ef3155d70@150.164.76.86:8080
CREATED;VALUE=DATE-TIME:20240306T125028Z
DESCRIPTION:Aula ampliada da disciplina Tópicos em Filosofia. Atividade c
 om a presença do servidor Fabricio Riff para ajudar na TI.
LAST-MODIFIED;VALUE=DATE-TIME:20240307T165009Z
URL:http://150.164.76.86:8080/cac/agenda/10963730009238620801
END:VEVENT
BEGIN:VTIMEZONE
TZID:America/Sao_Paulo
X-LIC-LOCATION:America/Sao_Paulo
BEGIN:STANDARD
DTSTART;VALUE=DATE-TIME:20240217T230000
TZNAME:BRT
TZOFFSETFROM:-0200
TZOFFSETTO:-0300
END:STANDARD
END:VTIMEZONE
END:VCALENDAR
