BEGIN:VCALENDAR
VERSION:2.0
PRODID:-//Plone.org//NONSGML plone.app.event//EN
X-WR-TIMEZONE:America/Sao_Paulo
BEGIN:VEVENT
SUMMARY:Mostra de Internacionalização UFMG em [ Arena da praça de servi
 ços Entorno da Praca de Servicos]
DTSTART;TZID=America/Sao_Paulo;VALUE=DATE-TIME:20230518T080000
DTEND;TZID=America/Sao_Paulo;VALUE=DATE-TIME:20230518T180000
DTSTAMP;VALUE=DATE-TIME:20260421T133925Z
UID:29eff432ba74478ba29c7d1320276933@150.164.76.86:8080
CREATED;VALUE=DATE-TIME:20221221T170554Z
DESCRIPTION:<p>Será realizada uma Mostra de Internacionalização UFMG\, 
 com atividades envolvendo a DRI/ Instituto Confúcio/ CRI medicina UFMG e 
 outros órgãos e departamentos relacionados com intercâmbios de graduaç
 ão e pós- graduação. Serão realizados: - Exposição (Feira) de Inter
 nacionalização. - Concurso de Culinária - Show de talentos - Cerimonia 
 de encerramento e resultado do concurso. Equipamentos e serviços necessá
 rios: - uma caixa de som\; - um microfone\; - cabos necessários para uso\
 ; - três bancadas ou uma bancada comprida para os expositores- que são o
 s gestores de relações internacionais\, ou uma tenda com mesas e cadeira
 s. - 15 (quinze) mesas de plástico com uma cadeiras para o concurso.</p>
LAST-MODIFIED;VALUE=DATE-TIME:20230403T210211Z
URL:http://150.164.76.86:8080/cac/agenda/10939566045294528175
END:VEVENT
BEGIN:VTIMEZONE
TZID:America/Sao_Paulo
X-LIC-LOCATION:America/Sao_Paulo
BEGIN:STANDARD
DTSTART;VALUE=DATE-TIME:20230225T230000
TZNAME:BRT
TZOFFSETFROM:-0200
TZOFFSETTO:-0300
END:STANDARD
END:VTIMEZONE
END:VCALENDAR
