BEGIN:VCALENDAR
VERSION:2.0
PRODID:-//Plone.org//NONSGML plone.app.event//EN
X-WR-TIMEZONE:America/Sao_Paulo
BEGIN:VEVENT
SUMMARY:2º Ciclo de Debates do APUBH em [ Auditório B107 do CAD3]
DTSTART;TZID=America/Sao_Paulo;VALUE=DATE-TIME:20250528T130000
DTEND;TZID=America/Sao_Paulo;VALUE=DATE-TIME:20250528T183000
DTSTAMP;VALUE=DATE-TIME:20260419T091241Z
UID:86f77a2caed64429bf65d13b5c46413f@150.164.76.86:8080
CREATED;VALUE=DATE-TIME:20250505T131228Z
DESCRIPTION:<p>Necessário infraestrutura de audiovisual\, microfone\, int
 ernet cabeada.</p>
LAST-MODIFIED;VALUE=DATE-TIME:20250505T171028Z
URL:http://150.164.76.86:8080/cac/agenda/10931564116013731051
END:VEVENT
BEGIN:VTIMEZONE
TZID:America/Sao_Paulo
X-LIC-LOCATION:America/Sao_Paulo
BEGIN:STANDARD
DTSTART;VALUE=DATE-TIME:20250215T230000
TZNAME:BRT
TZOFFSETFROM:-0200
TZOFFSETTO:-0300
END:STANDARD
END:VTIMEZONE
END:VCALENDAR
