BEGIN:VCALENDAR
VERSION:2.0
PRODID:-//Plone.org//NONSGML plone.app.event//EN
X-WR-TIMEZONE:America/Sao_Paulo
BEGIN:VEVENT
SUMMARY:Lançamento livro Editora UFMG em [ Auditorio A104 do Cad 2]
DTSTART;TZID=America/Sao_Paulo;VALUE=DATE-TIME:20230620T090000
DTEND;TZID=America/Sao_Paulo;VALUE=DATE-TIME:20230620T120000
DTSTAMP;VALUE=DATE-TIME:20260421T133132Z
UID:cd083c91e0404a958aa45d382076f8ba@150.164.76.86:8080
CREATED;VALUE=DATE-TIME:20230614T142720Z
DESCRIPTION:<p>Lançamento da tradução do livro Teoria Contemporânea da
  Restauração de Salvador Munoz Vinas\, pela UFMG. Haverá transmissão o
 nline do autor\, por zoom\, de Valência\, Espanha. Serão necessários: c
 omputador\, datashow\, microfone e acesso à internet. OBS: Atendimento t
 écnico audiovisual providenciado pela organização do evento.</p>
LAST-MODIFIED;VALUE=DATE-TIME:20230614T143940Z
URL:http://150.164.76.86:8080/cac/agenda/10914423916109232408
END:VEVENT
BEGIN:VTIMEZONE
TZID:America/Sao_Paulo
X-LIC-LOCATION:America/Sao_Paulo
BEGIN:STANDARD
DTSTART;VALUE=DATE-TIME:20230225T230000
TZNAME:BRT
TZOFFSETFROM:-0200
TZOFFSETTO:-0300
END:STANDARD
END:VTIMEZONE
END:VCALENDAR
