BEGIN:VCALENDAR
VERSION:2.0
PRODID:-//Plone.org//NONSGML plone.app.event//EN
X-WR-TIMEZONE:America/Sao_Paulo
BEGIN:VEVENT
SUMMARY:pré-reserva XV Encontro Mineiro de Avaliação Psicológica em [ 
 Auditorio A102 do Cad 2 Auditorio A104 do Cad 2]
DTSTART;TZID=America/Sao_Paulo;VALUE=DATE-TIME:20241203T080000
DTEND;TZID=America/Sao_Paulo;VALUE=DATE-TIME:20241205T210000
DTSTAMP;VALUE=DATE-TIME:20260419T150051Z
UID:70c9fb48bf0143f197a40d8890196c35@150.164.76.86:8080
CREATED;VALUE=DATE-TIME:20231116T150152Z
DESCRIPTION:<p>pré-reserva</p>
LAST-MODIFIED;VALUE=DATE-TIME:20241126T191432Z
URL:http://150.164.76.86:8080/cac/agenda/10907072609216480894
END:VEVENT
BEGIN:VTIMEZONE
TZID:America/Sao_Paulo
X-LIC-LOCATION:America/Sao_Paulo
BEGIN:DAYLIGHT
DTSTART;VALUE=DATE-TIME:20241020T010000
TZNAME:BRST
TZOFFSETFROM:-0300
TZOFFSETTO:-0200
END:DAYLIGHT
END:VTIMEZONE
END:VCALENDAR
