BEGIN:VCALENDAR
VERSION:2.0
PRODID:-//Plone.org//NONSGML plone.app.event//EN
X-WR-TIMEZONE:America/Sao_Paulo
BEGIN:VEVENT
SUMMARY:ASSEMBLEIA DO SINDIFES em [ Auditório B106 do CAD3]
DTSTART;TZID=America/Sao_Paulo;VALUE=DATE-TIME:20240520T080000
DTEND;TZID=America/Sao_Paulo;VALUE=DATE-TIME:20240520T170000
DTSTAMP;VALUE=DATE-TIME:20260420T032059Z
UID:0b3c681caeff4ebb96ef38a4764a8a3a@150.164.76.86:8080
CREATED;VALUE=DATE-TIME:20240503T142203Z
DESCRIPTION:<p>assembleia</p>
LAST-MODIFIED;VALUE=DATE-TIME:20240506T145016Z
URL:http://150.164.76.86:8080/cac/agenda/10904940827932399139
END:VEVENT
BEGIN:VTIMEZONE
TZID:America/Sao_Paulo
X-LIC-LOCATION:America/Sao_Paulo
BEGIN:STANDARD
DTSTART;VALUE=DATE-TIME:20240217T230000
TZNAME:BRT
TZOFFSETFROM:-0200
TZOFFSETTO:-0300
END:STANDARD
END:VTIMEZONE
END:VCALENDAR
