BEGIN:VCALENDAR
VERSION:2.0
PRODID:-//Plone.org//NONSGML plone.app.event//EN
X-WR-TIMEZONE:America/Sao_Paulo
BEGIN:VEVENT
SUMMARY:Congresso Brasileiro de Auditoria e Controle Interno - COBACI em [
  Auditorio Nobre do CAD 1 Arena da praça de serviços Outros espacos]
DTSTART;TZID=America/Sao_Paulo;VALUE=DATE-TIME:20220801T080000
DTEND;TZID=America/Sao_Paulo;VALUE=DATE-TIME:20220803T180000
DTSTAMP;VALUE=DATE-TIME:20260422T012451Z
UID:fdaf9b56001746dd9dc463fde13bc863@150.164.76.86:8080
CREATED;VALUE=DATE-TIME:20220502T150514Z
DESCRIPTION:<p>Data de realização: 01 a 03/08/2022. Horários de início
  e término (de todos os dias): 8h às 18h. Lista de equipamentos necessá
 rios no local do evento: som e datashow. Capacidade do auditório: mínima
  de 120 pessoas.</p>
LAST-MODIFIED;VALUE=DATE-TIME:20220606T181452Z
URL:http://150.164.76.86:8080/cac/agenda/10879197756865370266
END:VEVENT
BEGIN:VTIMEZONE
TZID:America/Sao_Paulo
X-LIC-LOCATION:America/Sao_Paulo
BEGIN:STANDARD
DTSTART;VALUE=DATE-TIME:20220219T230000
TZNAME:BRT
TZOFFSETFROM:-0200
TZOFFSETTO:-0300
END:STANDARD
END:VTIMEZONE
END:VCALENDAR
