BEGIN:VCALENDAR
VERSION:2.0
PRODID:-//Plone.org//NONSGML plone.app.event//EN
X-WR-TIMEZONE:America/Sao_Paulo
BEGIN:VEVENT
SUMMARY:ASSEMBLEIA DO SINDIFES em [ Auditorio A102 do Cad 2]
DTSTART;TZID=America/Sao_Paulo;VALUE=DATE-TIME:20240612T080000
DTEND;TZID=America/Sao_Paulo;VALUE=DATE-TIME:20240612T170000
DTSTAMP;VALUE=DATE-TIME:20260420T013857Z
UID:7f55930974034358a0dbc97e5ca058f7@150.164.76.86:8080
CREATED;VALUE=DATE-TIME:20240527T154912Z
DESCRIPTION:<p>ASSEMBLEIA DO SINDIFES</p>
LAST-MODIFIED;VALUE=DATE-TIME:20240527T160341Z
URL:http://150.164.76.86:8080/cac/agenda/10872142700720895957
END:VEVENT
BEGIN:VTIMEZONE
TZID:America/Sao_Paulo
X-LIC-LOCATION:America/Sao_Paulo
BEGIN:STANDARD
DTSTART;VALUE=DATE-TIME:20240217T230000
TZNAME:BRT
TZOFFSETFROM:-0200
TZOFFSETTO:-0300
END:STANDARD
END:VTIMEZONE
END:VCALENDAR
