BEGIN:VCALENDAR
VERSION:2.0
PRODID:-//Plone.org//NONSGML plone.app.event//EN
X-WR-TIMEZONE:America/Sao_Paulo
BEGIN:VEVENT
SUMMARY:Reunião com Colegiados\, NDEs e Departamentos - tema: Avaliação
  do Processo Seletivo para Vagas Novas em Cursos de Graduação da UFMG. e
 m [ Outros espacos]
DTSTART;TZID=America/Sao_Paulo;VALUE=DATE-TIME:20230601T140000
DTEND;TZID=America/Sao_Paulo;VALUE=DATE-TIME:20230601T163000
DTSTAMP;VALUE=DATE-TIME:20260421T102952Z
UID:3801dbe8efb142598f88caf6ef718dd7@150.164.76.86:8080
CREATED;VALUE=DATE-TIME:20230428T185930Z
DESCRIPTION:<p>Microfone de mesa para 04 integrantes\, microfone avulso\, 
 projeção e transmissão online para ICA/Montes Claros. A Prograd irá so
 licitar apoio do CAED para essa atividade.<span></span></p>
LAST-MODIFIED;VALUE=DATE-TIME:20230503T125003Z
URL:http://150.164.76.86:8080/cac/agenda/10870140401610898984
END:VEVENT
BEGIN:VTIMEZONE
TZID:America/Sao_Paulo
X-LIC-LOCATION:America/Sao_Paulo
BEGIN:STANDARD
DTSTART;VALUE=DATE-TIME:20230225T230000
TZNAME:BRT
TZOFFSETFROM:-0200
TZOFFSETTO:-0300
END:STANDARD
END:VTIMEZONE
END:VCALENDAR
