BEGIN:VCALENDAR
VERSION:2.0
PRODID:-//Plone.org//NONSGML plone.app.event//EN
X-WR-TIMEZONE:America/Sao_Paulo
BEGIN:VEVENT
SUMMARY:Reunião dos Coordenadores Programas de Pós-Graduação em [ Audi
 tório B107 do CAD3]
DTSTART;TZID=America/Sao_Paulo;VALUE=DATE-TIME:20250415T140000
DTEND;TZID=America/Sao_Paulo;VALUE=DATE-TIME:20250415T180000
DTSTAMP;VALUE=DATE-TIME:20260419T120040Z
UID:1d72da6e0d144861a2800b8394ff77dc@150.164.76.86:8080
CREATED;VALUE=DATE-TIME:20250321T143719Z
DESCRIPTION:Reunião entre a Pró-Reitoria de Pós-Graduação e os coorde
 nadores dos programas de pós-graduação.\n\n- Mesa para duas pessoas.\n-
 1 Microfone para apresentação.\n-1 Microfone volante para perguntas.
LAST-MODIFIED;VALUE=DATE-TIME:20250321T144436Z
URL:http://150.164.76.86:8080/cac/agenda/10847727737871497625
END:VEVENT
BEGIN:VTIMEZONE
TZID:America/Sao_Paulo
X-LIC-LOCATION:America/Sao_Paulo
BEGIN:STANDARD
DTSTART;VALUE=DATE-TIME:20250215T230000
TZNAME:BRT
TZOFFSETFROM:-0200
TZOFFSETTO:-0300
END:STANDARD
END:VTIMEZONE
END:VCALENDAR
