BEGIN:VCALENDAR
VERSION:2.0
PRODID:-//Plone.org//NONSGML plone.app.event//EN
X-WR-TIMEZONE:America/Sao_Paulo
BEGIN:VEVENT
SUMMARY:FeiraEBA em [ Entorno da Praca de Servicos]
DTSTART;TZID=America/Sao_Paulo;VALUE=DATE-TIME:20230921T060000
DTEND;TZID=America/Sao_Paulo;VALUE=DATE-TIME:20230922T220000
DTSTAMP;VALUE=DATE-TIME:20260421T062227Z
UID:536b7774a66145dbacabe79c6afb39f6@150.164.76.86:8080
CREATED;VALUE=DATE-TIME:20230715T142136Z
DESCRIPTION:Feira EBA feita em parceria com a ong adote um focinho.
LAST-MODIFIED;VALUE=DATE-TIME:20230717T132948Z
URL:http://150.164.76.86:8080/cac/agenda/10836890960672286575
END:VEVENT
BEGIN:VTIMEZONE
TZID:America/Sao_Paulo
X-LIC-LOCATION:America/Sao_Paulo
BEGIN:STANDARD
DTSTART;VALUE=DATE-TIME:20230225T230000
TZNAME:BRT
TZOFFSETFROM:-0200
TZOFFSETTO:-0300
END:STANDARD
END:VTIMEZONE
END:VCALENDAR
