BEGIN:VCALENDAR
VERSION:2.0
PRODID:-//Plone.org//NONSGML plone.app.event//EN
X-WR-TIMEZONE:America/Sao_Paulo
BEGIN:VEVENT
SUMMARY:CARNAVAL em [ Auditorio da Reitoria Saguao da Reitoria Gramado da 
 Reitoria Arena da praça de serviços Entorno da Praca de Servicos Auditor
 io Nobre do CAD 1 Auditorio 1A do CAD 1 Auditorio 2A do CAD 1 Auditorio A1
 02 do Cad 2 Auditorio A104 do Cad 2 Auditório B101/102 do CAD 3 Auditóri
 o B106 do CAD3 Auditório B107 do CAD3 Auditório B301 do CAD 3 Auditório
  B302 do CAD 3 Auditório B306 do CAD3]
DTSTART;TZID=America/Sao_Paulo;VALUE=DATE-TIME:20240212T060000
DTEND;TZID=America/Sao_Paulo;VALUE=DATE-TIME:20240214T200000
DTSTAMP;VALUE=DATE-TIME:20260420T080858Z
UID:3f1c7dfbb4dd45ad92a3fecac2ff86b2@150.164.76.86:8080
CREATED;VALUE=DATE-TIME:20231106T132116Z
DESCRIPTION:<p>CARNAVAL</p>
LAST-MODIFIED;VALUE=DATE-TIME:20231106T132202Z
URL:http://150.164.76.86:8080/cac/agenda/1083360945122315900
END:VEVENT
BEGIN:VTIMEZONE
TZID:America/Sao_Paulo
X-LIC-LOCATION:America/Sao_Paulo
BEGIN:DAYLIGHT
DTSTART;VALUE=DATE-TIME:20231015T010000
TZNAME:BRST
TZOFFSETFROM:-0300
TZOFFSETTO:-0200
END:DAYLIGHT
END:VTIMEZONE
END:VCALENDAR
