BEGIN:VCALENDAR
VERSION:2.0
PRODID:-//Plone.org//NONSGML plone.app.event//EN
X-WR-TIMEZONE:America/Sao_Paulo
BEGIN:VEVENT
SUMMARY:Encontro de Orientação para mobilidade acadêmica internacional 
 em 2025 em [ Auditorio A104 do Cad 2]
DTSTART;TZID=America/Sao_Paulo;VALUE=DATE-TIME:20241017T180000
DTEND;TZID=America/Sao_Paulo;VALUE=DATE-TIME:20241017T213000
DTSTAMP;VALUE=DATE-TIME:20260419T192903Z
UID:a1b261b007f44ec5a9f8dbb6e1ff8e2a@150.164.76.86:8080
CREATED;VALUE=DATE-TIME:20241007T124734Z
DESCRIPTION:Evento destinado à apresentação dos programas de intercâmb
 io e preparação para mobilidade acadêmica internacional. \n\nO número 
 de estudantes esperado é cerca de 200 estudantes.\n\nPrecisaremos também
  dos seguintes equipamentos:\n01 microfone de mão c/ fio\n01 microfone de
  mesa\n01 notebook com acesso à internet e conectado ao sistema multimíd
 ia. \n\n4 pessoas irão compor a mesa.
LAST-MODIFIED;VALUE=DATE-TIME:20241007T130725Z
URL:http://150.164.76.86:8080/cac/agenda/10831006148418192964
END:VEVENT
BEGIN:VTIMEZONE
TZID:America/Sao_Paulo
X-LIC-LOCATION:America/Sao_Paulo
BEGIN:STANDARD
DTSTART;VALUE=DATE-TIME:20240217T230000
TZNAME:BRT
TZOFFSETFROM:-0200
TZOFFSETTO:-0300
END:STANDARD
END:VTIMEZONE
END:VCALENDAR
