BEGIN:VCALENDAR
VERSION:2.0
PRODID:-//Plone.org//NONSGML plone.app.event//EN
X-WR-TIMEZONE:America/Sao_Paulo
BEGIN:VEVENT
SUMMARY:X Simpósio de Microbiologia da UFMG em [ Auditorio Nobre do CAD 1
 ]
DTSTART;TZID=America/Sao_Paulo;VALUE=DATE-TIME:20231127T080000
DTEND;TZID=America/Sao_Paulo;VALUE=DATE-TIME:20231128T180000
DTSTAMP;VALUE=DATE-TIME:20260420T130745Z
UID:517a133859274a47b939932efa3a77db@150.164.76.86:8080
CREATED;VALUE=DATE-TIME:20230622T173436Z
DESCRIPTION:<p>O Simpósio de Microbiologia da UFMG passou a integrar as a
 tividade do ano letivo do Programa de Pós-graduação em Microbiologia da
  UFMG a partir do início dos anos 2000\, inicialmente como um Fórum\, se
 ndo alçado à categoria de Simpósio há 10 anos atrás\, quando passou a
  atrair não apenas a comunidade local\, mas também a comunidade regional
  e nacional. O evento tem duração de 3 dias\, contando com diversas pale
 stras de alunos e pesquisadores renomados no cenário da pesquisa em micro
 biologia nacional\, além de representantes de patrocinadores e empresas p
 arceiras com atuação na área. Desde 2013\, o evento tem atraído um pú
 blico médio de 400-500 pessoas e assim\, toda a estrutura do auditório n
 obre do CAD1\, incluindo a estrutura de projeção e audiovisual\, bem com
 o banheiros do auditório são utilizados. Além disso\, há apresentaçõ
 es de trabalhos em formato de poster\, geralmente realizadas no saguão do
  CAD1\, local onde ocorre também a exposição de patrocinadores e os cof
 fee-breaks. Para preparo dos coffee-breaks precisaríamos também da estru
 tura de bancadas semelhantes à cantina presente no saguão do CAD1.</p>
LAST-MODIFIED;VALUE=DATE-TIME:20231120T135546Z
URL:http://150.164.76.86:8080/cac/agenda/10830752721102175564
END:VEVENT
BEGIN:VTIMEZONE
TZID:America/Sao_Paulo
X-LIC-LOCATION:America/Sao_Paulo
BEGIN:DAYLIGHT
DTSTART;VALUE=DATE-TIME:20231015T010000
TZNAME:BRST
TZOFFSETFROM:-0300
TZOFFSETTO:-0200
END:DAYLIGHT
END:VTIMEZONE
END:VCALENDAR
