BEGIN:VCALENDAR
VERSION:2.0
PRODID:-//Plone.org//NONSGML plone.app.event//EN
X-WR-TIMEZONE:America/Sao_Paulo
BEGIN:VEVENT
SUMMARY:VIII International Symposium on Animal Biology of Reproduction - I
 SABR em [ Auditorio A102 do Cad 2]
DTSTART;TZID=America/Sao_Paulo;VALUE=DATE-TIME:20201111T080000
DTEND;TZID=America/Sao_Paulo;VALUE=DATE-TIME:20201113T210000
DTSTAMP;VALUE=DATE-TIME:20260424T161333Z
UID:58f759e975314202ae4345f6089948f9@150.164.76.86:8080
CREATED;VALUE=DATE-TIME:20200207T192650Z
DESCRIPTION:<p>O “VIII International Symposium on Animal Biology of Repr
 oduction – ISABR 2020” tem como foco a constituição de fórum de dis
 cussões acerca de aspectos básicos da reprodução animal\, com enfoque 
 internacional e ressaltando importantes aspectos da biologia da reproduç
 ão dos gametas masculinos e femininos\, versus as ações no ambiente ute
 rino. A característica marcante do Simpósio é facilitar a discussão pr
 esencial entre cientistas estrangeiros e seus pares brasileiros acerca de 
 tópicos de interesse comum. Este evento congregará palestrantes estrange
 iros e inclusão de palestrantes brasileiros ícones da área de biologia 
 da reprodução animal. O evento terá lugar o Auditório do CAD 2 da Univ
 ersidade Federal de Minas Gerais – UFMG\, Campus Pampulha\, Belo Horizon
 te – MG\, no período de 11 a 13 de novembro de 2020\, com expectativa d
 e participação de cientistas convidados\, entre estrangeiros e brasileir
 os\, e cerca de outros 250 participantes entre professores\, pesquisadores
 \, profissionais e estudantes de pós-graduação e de graduação envolvi
 dos com iniciação científica. No ano de 2020\, chegamos a 16 anos de ex
 ecução do evento\, o qual é característico perante a comunidade cienti
 fica da reprodução animal\, como o congresso internacional especializado
  em biotecnologia da reprodução. Todo o evento ocorrerá na língua ingl
 esa. Serviços necessários (caso haja): limpeza\, áudio-visual\, ar cond
 icionado. Programação preliminar do evento: Preliminary Program 11/11/20
 20 • Session I (8-12h): Oocytes development • Dr. Juliano Silveira –
  FZEA\, USP\, Brazil • Dr. Alfredo Antoniazzi – UFSM\, Brazil • Dr. 
 Human Fatemi – IVI Middle East – Dubai • + 2 Oral presentations of 1
 5 min + 5 min (short talk + discussion) • Session II (14:18h): Cell Repr
 ogramming • Dr. Mauricio Machain Franco\, EMBRAPA CENARGEN\, Brazil • 
 Dr. Lygia da Veiga Pereira\, USP\, Brazil • The Outstanding Latin Americ
 an Lecture: Dr. Tiago Veiras Collares\, UFPel\, Brazil • + 2 Oral presen
 tations of 15 min + 5 min (short talk + discussion) 12/11/2020 • Session
  III (8-12h): Male gametes • Dr. Clémence Belleannée – Université L
 aval\, Canadá • Dr. Marc Yeste – Universitat de Girona\, Espanha • 
 Dr. Mariana Neves – UFV\, BraZil • + 2 Oral presentations of 15 min + 
 5 min (short talk + discussion) • Session IV (14:18h): Uterine Environme
 nt • Xavier Druart - French National Institute for Agricultural Research
 \, Paris\, France • Paola Casanello - División Pediatría &amp\; Divisi
 ón de Obstetricia y Ginecología\, Pontificia Universidad Católica de Ch
 ile\, Chile • Ana Franchi - Pharmacological and Botanical Studies Centre
  (CEFYBO)\, Buenos Aires\, Argentina • + 2 Oral presentations of 15 min 
 + 5 min (short talk + discussion) 13/11/2020 • Session V (8-12h): Macro 
 topics Dr. Samyra Maria dos Santos Nassif Lacerda\, UFMG\, Brazil Dr. Lavi
 nia Schuler-Fassini\, HCPA\, UFRGS\, Brazil + 4 Oral presentations of 15 m
 in + 5 min (short talk + discussion) • Closing Remarks Comitê organizad
 or: Presidente: Dr. Marcelo Rezende Luz\, UFMG\, Belo Horizonte\, MG\, Bra
 zil Membros: Dr. Alexandre Rodrigues Silva\, UFERSA\, Mossoró\, RN\, Braz
 il Dr. Carlos Eduardo Ambrósio\, USP\, Pirassununga\, SP\, Brazil Dr. Dan
 iele dos Santos Martins\, USP\, Pirassununga\, SP\, Brazil Dr. Ivan Bustam
 ante Filho\, UNIVATES\, Lajeado\, RS\, Brazil Dr. Felipe Perecin\, USP\, P
 irassununga\, SP\, Brazil</p>
LAST-MODIFIED;VALUE=DATE-TIME:20200914T125056Z
URL:http://150.164.76.86:8080/cac/agenda/10827427823133703508
END:VEVENT
BEGIN:VTIMEZONE
TZID:America/Sao_Paulo
X-LIC-LOCATION:America/Sao_Paulo
BEGIN:DAYLIGHT
DTSTART;VALUE=DATE-TIME:20201018T010000
TZNAME:BRST
TZOFFSETFROM:-0300
TZOFFSETTO:-0200
END:DAYLIGHT
END:VTIMEZONE
END:VCALENDAR
