BEGIN:VCALENDAR
VERSION:2.0
PRODID:-//Plone.org//NONSGML plone.app.event//EN
X-WR-TIMEZONE:America/Sao_Paulo
BEGIN:VEVENT
SUMMARY:De qual comunicação estamos falando? em [ Auditorio A102 do Cad 
 2]
DTSTART;TZID=America/Sao_Paulo;VALUE=DATE-TIME:20230316T140000
DTEND;TZID=America/Sao_Paulo;VALUE=DATE-TIME:20230317T180000
DTSTAMP;VALUE=DATE-TIME:20260421T164405Z
UID:d34db1470c8c4501832014924e5646d5@150.164.76.86:8080
CREATED;VALUE=DATE-TIME:20221128T225948Z
DESCRIPTION:<p>Equipamentos necessários: - Mesa equipada com três microf
 ones e acesso à projeção em tela do auditório com conexão de internet
 . Serviços necessários - Serviços básicos de preparação\, adequaçã
 o e monitoramento do equipamento para o seminário. - Serviços de limpeza
  e manutenção do auditório e sanitários. PROGRAMAÇÃO - De que comuni
 cação estamos falando? DIA 1 - 16 de março de 2022. 14 horas - Apresent
 ação e Mesa 1 15h30 - Coffee Break 16 horas - Mesa 2 18 horas - Encerram
 ento DIA 2 - 17 de março de 2022. 14 horas - Mesa 3 15h30 - Coffee Break 
 16 horas - Mesa 4 18 horas - Encerramento (geral)</p>
LAST-MODIFIED;VALUE=DATE-TIME:20221212T160123Z
URL:http://150.164.76.86:8080/cac/agenda/10813301693472711980
END:VEVENT
BEGIN:VTIMEZONE
TZID:America/Sao_Paulo
X-LIC-LOCATION:America/Sao_Paulo
BEGIN:STANDARD
DTSTART;VALUE=DATE-TIME:20230225T230000
TZNAME:BRT
TZOFFSETFROM:-0200
TZOFFSETTO:-0300
END:STANDARD
END:VTIMEZONE
END:VCALENDAR
