BEGIN:VCALENDAR
VERSION:2.0
PRODID:-//Plone.org//NONSGML plone.app.event//EN
X-WR-TIMEZONE:America/Sao_Paulo
BEGIN:VEVENT
SUMMARY:EVENTO CAAD - PÓLEN ESTÚDIO DE ANIMAÇÃO: Palestra e Lançament
 o do Curta-metragem Felícia e os Super-resíduos do Bem. em [ Auditorio A
 104 do Cad 2]
DTSTART;TZID=America/Sao_Paulo;VALUE=DATE-TIME:20230921T170000
DTEND;TZID=America/Sao_Paulo;VALUE=DATE-TIME:20230921T213000
DTSTAMP;VALUE=DATE-TIME:20260421T075134Z
UID:a2ad02ae7b7a4c98b7ae2f0e3d1e525e@150.164.76.86:8080
CREATED;VALUE=DATE-TIME:20230825T145730Z
DESCRIPTION:<p>Precisaremos dos seguintes equipamentos para a palestra dos
  convidados e exibição dos curtas de animação no evento: 1) Notebook c
 om tocador de vídeo VLC\, conectado à internet\; 2) Sistema de som com p
 rojetor para exibição de slides e 2 curtas-metragens de animação\; 3) 
 3 microfones para interação entre os convidados\; 4) 3 Pedestais para mi
 crofone\; 5) Mesa com 6 cadeiras. Programação: Lançamento do curta-metr
 agem de animação "Felícia e os Super-resíduos do Bem" da produtora Pó
 len\, com participação dos realizadores Cláudio Constantino (Produção
  Executivo)\, Rafael Guimarães (Diretor da Pólen) e Laly Cataguazes (Dir
 etor do curta-metragem).</p>
LAST-MODIFIED;VALUE=DATE-TIME:20230828T153212Z
URL:http://150.164.76.86:8080/cac/agenda/1081274331117563323
END:VEVENT
BEGIN:VTIMEZONE
TZID:America/Sao_Paulo
X-LIC-LOCATION:America/Sao_Paulo
BEGIN:STANDARD
DTSTART;VALUE=DATE-TIME:20230225T230000
TZNAME:BRT
TZOFFSETFROM:-0200
TZOFFSETTO:-0300
END:STANDARD
END:VTIMEZONE
END:VCALENDAR
