BEGIN:VCALENDAR
VERSION:2.0
PRODID:-//Plone.org//NONSGML plone.app.event//EN
X-WR-TIMEZONE:America/Sao_Paulo
BEGIN:VEVENT
SUMMARY:I Semana de Moda da UFMG em [ Auditório B106 do CAD3 Auditório B
 107 do CAD3 Outros espacos]
DTSTART;TZID=America/Sao_Paulo;VALUE=DATE-TIME:20231127T080000
DTEND;TZID=America/Sao_Paulo;VALUE=DATE-TIME:20231201T220000
DTSTAMP;VALUE=DATE-TIME:20260420T102051Z
UID:b72392574e1e4268897e7873a7b38d8e@150.164.76.86:8080
CREATED;VALUE=DATE-TIME:20230803T193009Z
DESCRIPTION:<p>Os equipamentos são os projetores. Os serviços necessári
 os: limpeza do local. A programação do evento é 28/11/2023 - Palestra 1
  29/11/2023 - Palestra 2</p>
LAST-MODIFIED;VALUE=DATE-TIME:20231006T144758Z
URL:http://150.164.76.86:8080/cac/agenda/10800869680633416549
END:VEVENT
BEGIN:VTIMEZONE
TZID:America/Sao_Paulo
X-LIC-LOCATION:America/Sao_Paulo
BEGIN:DAYLIGHT
DTSTART;VALUE=DATE-TIME:20231015T010000
TZNAME:BRST
TZOFFSETFROM:-0300
TZOFFSETTO:-0200
END:DAYLIGHT
END:VTIMEZONE
END:VCALENDAR
