BEGIN:VCALENDAR
VERSION:2.0
PRODID:-//Plone.org//NONSGML plone.app.event//EN
X-WR-TIMEZONE:America/Sao_Paulo
BEGIN:VEVENT
SUMMARY:Ciclo IEAT 25 anos -  conferência Roger Chartier em [ Auditorio d
 a Reitoria]
DTSTART;TZID=America/Sao_Paulo;VALUE=DATE-TIME:20240927T080000
DTEND;TZID=America/Sao_Paulo;VALUE=DATE-TIME:20240927T210000
DTSTAMP;VALUE=DATE-TIME:20260419T205848Z
UID:57b21ca427de445c998e076291a74156@150.164.76.86:8080
CREATED;VALUE=DATE-TIME:20240308T135018Z
DESCRIPTION:<p>Evento do Ciclo de 25 anos do IEAT. Conferência do catedr
 ático Roger Chartier que estará em visita à UFMG em setembro de 2024.</
 p>
LAST-MODIFIED;VALUE=DATE-TIME:20240718T132923Z
URL:http://150.164.76.86:8080/cac/agenda/10789802889834939677
END:VEVENT
BEGIN:VTIMEZONE
TZID:America/Sao_Paulo
X-LIC-LOCATION:America/Sao_Paulo
BEGIN:STANDARD
DTSTART;VALUE=DATE-TIME:20240217T230000
TZNAME:BRT
TZOFFSETFROM:-0200
TZOFFSETTO:-0300
END:STANDARD
END:VTIMEZONE
END:VCALENDAR
