BEGIN:VCALENDAR
VERSION:2.0
PRODID:-//Plone.org//NONSGML plone.app.event//EN
X-WR-TIMEZONE:America/Sao_Paulo
BEGIN:VEVENT
SUMMARY:PicadeRRÓ UFMG em [ Arena da praça de serviços]
DTSTART;TZID=America/Sao_Paulo;VALUE=DATE-TIME:20221130T170000
DTEND;TZID=America/Sao_Paulo;VALUE=DATE-TIME:20221130T190000
DTSTAMP;VALUE=DATE-TIME:20260421T220934Z
UID:5d3954a3519c45e0ba619f35531cc9bd@150.164.76.86:8080
CREATED;VALUE=DATE-TIME:20220919T012615Z
DESCRIPTION:Evento com caixa de som própria\, e reprodução de músicas 
 no estilo forró.\nMúsica e dança durante toda o intervalo do evento\, e
 ntre 17h30 e 19h.\nExpectativa de público de 300 pessoas ao longo de todo
  o evento.\nApoio da Pró-reitoria de Assuntos Estudantes (Prae) UFMG.\nEm
  caso de dúvida\, favor entrar em contato com a \nprofessora Márcia Lous
 ado.
LAST-MODIFIED;VALUE=DATE-TIME:20220922T180243Z
URL:http://150.164.76.86:8080/cac/agenda/10774619076693611651
END:VEVENT
BEGIN:VTIMEZONE
TZID:America/Sao_Paulo
X-LIC-LOCATION:America/Sao_Paulo
BEGIN:DAYLIGHT
DTSTART;VALUE=DATE-TIME:20221016T010000
TZNAME:BRST
TZOFFSETFROM:-0300
TZOFFSETTO:-0200
END:DAYLIGHT
END:VTIMEZONE
END:VCALENDAR
